BEGIN:VCALENDAR
VERSION:2.0
PRODID:-//ASSOCIATION CENTRALP - ECPv6.15.20//NONSGML v1.0//EN
CALSCALE:GREGORIAN
METHOD:PUBLISH
X-WR-CALNAME:ASSOCIATION CENTRALP
X-ORIGINAL-URL:https://associationcentralp.fr
X-WR-CALDESC:Évènements pour ASSOCIATION CENTRALP
REFRESH-INTERVAL;VALUE=DURATION:PT1H
X-Robots-Tag:noindex
X-PUBLISHED-TTL:PT1H
BEGIN:VTIMEZONE
TZID:Europe/Paris
BEGIN:DAYLIGHT
TZOFFSETFROM:+0100
TZOFFSETTO:+0200
TZNAME:CEST
DTSTART:20250330T010000
END:DAYLIGHT
BEGIN:STANDARD
TZOFFSETFROM:+0200
TZOFFSETTO:+0100
TZNAME:CET
DTSTART:20251026T010000
END:STANDARD
BEGIN:DAYLIGHT
TZOFFSETFROM:+0100
TZOFFSETTO:+0200
TZNAME:CEST
DTSTART:20260329T010000
END:DAYLIGHT
BEGIN:STANDARD
TZOFFSETFROM:+0200
TZOFFSETTO:+0100
TZNAME:CET
DTSTART:20261025T010000
END:STANDARD
BEGIN:DAYLIGHT
TZOFFSETFROM:+0100
TZOFFSETTO:+0200
TZNAME:CEST
DTSTART:20270328T010000
END:DAYLIGHT
BEGIN:STANDARD
TZOFFSETFROM:+0200
TZOFFSETTO:+0100
TZNAME:CET
DTSTART:20271031T010000
END:STANDARD
END:VTIMEZONE
BEGIN:VEVENT
DTSTART;TZID=Europe/Paris:20260430T121500
DTEND;TZID=Europe/Paris:20260430T134500
DTSTAMP:20260423T044722
CREATED:20260119T134518Z
LAST-MODIFIED:20260420T091702Z
UID:10000410-1777551300-1777556700@associationcentralp.fr
SUMMARY:Groupe de travail RH - Avril - Recruter autrement - Méthodes de Recrutement par Simulation (MRS)
DESCRIPTION:RECRUTER AUTREMENT : L’OUVERTURE A UNE NOUVELLE PRATIQUE POUR ENRICHIR SON RECRUTEMENT.  \n\n\n\nVous êtes concernés par :  \n\n\n\n\nPeu ou pas de candidats ou trop de candidatures \n\n\n\nDes candidatures inadaptées \n\n\n\nUn manque de temps pour la sélection des candidatures \n\n\n\nUn fort turnover \n\n\n\nOu tout simplement l’envie de changer vos pratiques\n\n\n\n\nFrance Travail en partenariat avec Les Nouveaux Jardins de la Solidarité présente vous présentera à l’occasion de ce Groupe de Travail\, LA METHODE DE RECRUTEMENT PAR SIMULATION (MRS) : pas de CV\, pas d’expérience professionnelle\, pas de diplôme\, des HABILETES ! Peut-être en avez-vous entendu parler mais cette méthode vous fait peur ? Correspond-t-elle à votre besoin ? Est-elle possible dans le cadre de vos recrutements ? Savez-vous comment la mettre en place ? Quels sont les avantages de cette méthode dans votre processus de recrutement? \n\n\n\nEmilie et Antoine\, conseillers France Travail Pro répondront à vos questions. \n\n\n\nEvènement réservé aux adhérents. Pour toute information sur les adhésions\, merci de prendre contact avec Audrey Savignon : audrey.savignon@association-centralp.com
URL:https://associationcentralp.fr/event/groupe-de-travail-rh-avril-2026/
LOCATION:Les Nouveaux Jardins de la Solidarité\, Route du Vieux Chêne\, Moirans\, 38430
CATEGORIES:Groupe de travail RH
ATTACH;FMTTYPE=image/jpeg:https://associationcentralp.fr/wp-content/uploads/2026/01/GTRHmin.jpg
END:VEVENT
END:VCALENDAR