BEGIN:VCALENDAR
VERSION:2.0
PRODID:-//ASSOCIATION CENTRALP - ECPv6.15.20//NONSGML v1.0//EN
CALSCALE:GREGORIAN
METHOD:PUBLISH
X-WR-CALNAME:ASSOCIATION CENTRALP
X-ORIGINAL-URL:https://associationcentralp.fr
X-WR-CALDESC:Évènements pour ASSOCIATION CENTRALP
REFRESH-INTERVAL;VALUE=DURATION:PT1H
X-Robots-Tag:noindex
X-PUBLISHED-TTL:PT1H
BEGIN:VTIMEZONE
TZID:Europe/Paris
BEGIN:DAYLIGHT
TZOFFSETFROM:+0100
TZOFFSETTO:+0200
TZNAME:CEST
DTSTART:20250330T010000
END:DAYLIGHT
BEGIN:STANDARD
TZOFFSETFROM:+0200
TZOFFSETTO:+0100
TZNAME:CET
DTSTART:20251026T010000
END:STANDARD
BEGIN:DAYLIGHT
TZOFFSETFROM:+0100
TZOFFSETTO:+0200
TZNAME:CEST
DTSTART:20260329T010000
END:DAYLIGHT
BEGIN:STANDARD
TZOFFSETFROM:+0200
TZOFFSETTO:+0100
TZNAME:CET
DTSTART:20261025T010000
END:STANDARD
BEGIN:DAYLIGHT
TZOFFSETFROM:+0100
TZOFFSETTO:+0200
TZNAME:CEST
DTSTART:20270328T010000
END:DAYLIGHT
BEGIN:STANDARD
TZOFFSETFROM:+0200
TZOFFSETTO:+0100
TZNAME:CET
DTSTART:20271031T010000
END:STANDARD
END:VTIMEZONE
BEGIN:VEVENT
DTSTART;TZID=Europe/Paris:20260529T113000
DTEND;TZID=Europe/Paris:20260529T120000
DTSTAMP:20260426T061600
CREATED:20260206T072335Z
LAST-MODIFIED:20260423T134604Z
UID:10000430-1780054200-1780056000@associationcentralp.fr
SUMMARY:Optimisez votre profil LinkedIn / 11h30-12h
DESCRIPTION:Vous êtes dirigeant\, salarié ou indépendant et vous souhaitez améliorer votre visibilité sur LinkedIn ?Que ce soit pour représenter votre entreprise\, attirer l’attention des recruteurs ou développer votre marque personnelle\, cette session individuelle est conçue pour vous accompagner efficacement. \n\n\n\nPendant 30 minutes\, vous analyserez avec Sophie votre profil LinkedIn afin d’en identifier les points forts et les axes d’amélioration. L’objectif est de vous aider à construire une présence en ligne cohérente\, professionnelle et alignée avec vos ambitions.Au cours de cet entretien\, vous recevrez des conseils personnalisés sur la manière de structurer votre profil : photo\, titre\, résumé\, expériences\, compétences\, etc. Chaque élément sera passé en revue pour maximiser son impact. Vous repartirez avec des recommandations concrètes et immédiatement applicables\, adaptées à votre secteur et à vos objectifs.
URL:https://associationcentralp.fr/event/optimisez-votre-profil-linkedin-11h30-12h-3/
LOCATION:Work in Centr’Alp\, 196 C rue du rocher du Lorzier\, 38430 Moirans \, 196C rue du rocher du lorzier\, Moirans\, 38430
CATEGORIES:Ateliers salariés
ATTACH;FMTTYPE=image/jpeg:https://associationcentralp.fr/wp-content/uploads/2025/10/Optimisez-votre-linkedin-web.jpg
END:VEVENT
BEGIN:VEVENT
DTSTART;TZID=Europe/Paris:20260529T120000
DTEND;TZID=Europe/Paris:20260529T123000
DTSTAMP:20260426T061600
CREATED:20260206T072802Z
LAST-MODIFIED:20260423T134629Z
UID:10000431-1780056000-1780057800@associationcentralp.fr
SUMMARY:Optimisez votre profil LinkedIn / 12h-12h30
DESCRIPTION:Vous êtes dirigeant\, salarié ou indépendant et vous souhaitez améliorer votre visibilité sur LinkedIn ?Que ce soit pour représenter votre entreprise\, attirer l’attention des recruteurs ou développer votre marque personnelle\, cette session individuelle est conçue pour vous accompagner efficacement. \n\n\n\nPendant 30 minutes\, vous analyserez avec Sophie votre profil LinkedIn afin d’en identifier les points forts et les axes d’amélioration. L’objectif est de vous aider à construire une présence en ligne cohérente\, professionnelle et alignée avec vos ambitions.Au cours de cet entretien\, vous recevrez des conseils personnalisés sur la manière de structurer votre profil : photo\, titre\, résumé\, expériences\, compétences\, etc. Chaque élément sera passé en revue pour maximiser son impact. Vous repartirez avec des recommandations concrètes et immédiatement applicables\, adaptées à votre secteur et à vos objectifs.
URL:https://associationcentralp.fr/event/optimisez-votre-profil-linkedin-12h-12h30-3/
LOCATION:Work in Centr’Alp\, 196 C rue du rocher du Lorzier\, 38430 Moirans \, 196C rue du rocher du lorzier\, Moirans\, 38430
CATEGORIES:Ateliers salariés
ATTACH;FMTTYPE=image/jpeg:https://associationcentralp.fr/wp-content/uploads/2025/10/Optimisez-votre-linkedin-web.jpg
END:VEVENT
BEGIN:VEVENT
DTSTART;TZID=Europe/Paris:20260529T123000
DTEND;TZID=Europe/Paris:20260529T130000
DTSTAMP:20260426T061600
CREATED:20260206T073039Z
LAST-MODIFIED:20260423T134648Z
UID:10000432-1780057800-1780059600@associationcentralp.fr
SUMMARY:Optimisez votre profil LinkedIn / 12h30-13h
DESCRIPTION:Vous êtes dirigeant\, salarié ou indépendant et vous souhaitez améliorer votre visibilité sur LinkedIn ?Que ce soit pour représenter votre entreprise\, attirer l’attention des recruteurs ou développer votre marque personnelle\, cette session individuelle est conçue pour vous accompagner efficacement. \n\n\n\nPendant 30 minutes\, vous analyserez avec Sophie votre profil LinkedIn afin d’en identifier les points forts et les axes d’amélioration. L’objectif est de vous aider à construire une présence en ligne cohérente\, professionnelle et alignée avec vos ambitions.Au cours de cet entretien\, vous recevrez des conseils personnalisés sur la manière de structurer votre profil : photo\, titre\, résumé\, expériences\, compétences\, etc. Chaque élément sera passé en revue pour maximiser son impact. Vous repartirez avec des recommandations concrètes et immédiatement applicables\, adaptées à votre secteur et à vos objectifs.
URL:https://associationcentralp.fr/event/optimisez-votre-profil-linkedin-12h30-13h-3/
LOCATION:Work in Centr’Alp\, 196 C rue du rocher du Lorzier\, 38430 Moirans \, 196C rue du rocher du lorzier\, Moirans\, 38430
CATEGORIES:Ateliers salariés
ATTACH;FMTTYPE=image/jpeg:https://associationcentralp.fr/wp-content/uploads/2025/10/Optimisez-votre-linkedin-web.jpg
END:VEVENT
BEGIN:VEVENT
DTSTART;TZID=Europe/Paris:20260529T130000
DTEND;TZID=Europe/Paris:20260529T133000
DTSTAMP:20260426T061600
CREATED:20260206T073319Z
LAST-MODIFIED:20260423T134704Z
UID:10000433-1780059600-1780061400@associationcentralp.fr
SUMMARY:Optimisez votre profil LinkedIn / 13h-13h30
DESCRIPTION:Vous êtes dirigeant\, salarié ou indépendant et vous souhaitez améliorer votre visibilité sur LinkedIn ?Que ce soit pour représenter votre entreprise\, attirer l’attention des recruteurs ou développer votre marque personnelle\, cette session individuelle est conçue pour vous accompagner efficacement. \n\n\n\nPendant 30 minutes\, vous analyserez avec Sophie votre profil LinkedIn afin d’en identifier les points forts et les axes d’amélioration. L’objectif est de vous aider à construire une présence en ligne cohérente\, professionnelle et alignée avec vos ambitions.Au cours de cet entretien\, vous recevrez des conseils personnalisés sur la manière de structurer votre profil : photo\, titre\, résumé\, expériences\, compétences\, etc. Chaque élément sera passé en revue pour maximiser son impact. Vous repartirez avec des recommandations concrètes et immédiatement applicables\, adaptées à votre secteur et à vos objectifs.
URL:https://associationcentralp.fr/event/optimisez-votre-profil-linkedin-13h-13h30/
LOCATION:Work in Centr’Alp\, 196 C rue du rocher du Lorzier\, 38430 Moirans \, 196C rue du rocher du lorzier\, Moirans\, 38430
CATEGORIES:Ateliers salariés
ATTACH;FMTTYPE=image/jpeg:https://associationcentralp.fr/wp-content/uploads/2025/10/Optimisez-votre-linkedin-web.jpg
END:VEVENT
BEGIN:VEVENT
DTSTART;TZID=Europe/Paris:20260529T133000
DTEND;TZID=Europe/Paris:20260529T140000
DTSTAMP:20260426T061600
CREATED:20260206T073915Z
LAST-MODIFIED:20260423T134724Z
UID:10000434-1780061400-1780063200@associationcentralp.fr
SUMMARY:Optimisez votre profil LinkedIn / 13h30-14h
DESCRIPTION:Vous êtes dirigeant\, salarié ou indépendant et vous souhaitez améliorer votre visibilité sur LinkedIn ?Que ce soit pour représenter votre entreprise\, attirer l’attention des recruteurs ou développer votre marque personnelle\, cette session individuelle est conçue pour vous accompagner efficacement. \n\n\n\nPendant 30 minutes\, vous analyserez avec Sophie votre profil LinkedIn afin d’en identifier les points forts et les axes d’amélioration. L’objectif est de vous aider à construire une présence en ligne cohérente\, professionnelle et alignée avec vos ambitions.Au cours de cet entretien\, vous recevrez des conseils personnalisés sur la manière de structurer votre profil : photo\, titre\, résumé\, expériences\, compétences\, etc. Chaque élément sera passé en revue pour maximiser son impact. Vous repartirez avec des recommandations concrètes et immédiatement applicables\, adaptées à votre secteur et à vos objectifs.
URL:https://associationcentralp.fr/event/optimisez-votre-profil-linkedin-13h30-14h-3/
LOCATION:Work in Centr’Alp\, 196 C rue du rocher du Lorzier\, 38430 Moirans \, 196C rue du rocher du lorzier\, Moirans\, 38430
CATEGORIES:Ateliers salariés
ATTACH;FMTTYPE=image/jpeg:https://associationcentralp.fr/wp-content/uploads/2025/10/Optimisez-votre-linkedin-web.jpg
END:VEVENT
END:VCALENDAR