BEGIN:VCALENDAR
VERSION:2.0
PRODID:-//ASSOCIATION CENTRALP - ECPv6.15.20//NONSGML v1.0//EN
CALSCALE:GREGORIAN
METHOD:PUBLISH
X-ORIGINAL-URL:https://associationcentralp.fr
X-WR-CALDESC:Évènements pour ASSOCIATION CENTRALP
REFRESH-INTERVAL;VALUE=DURATION:PT1H
X-Robots-Tag:noindex
X-PUBLISHED-TTL:PT1H
BEGIN:VTIMEZONE
TZID:Europe/Paris
BEGIN:DAYLIGHT
TZOFFSETFROM:+0100
TZOFFSETTO:+0200
TZNAME:CEST
DTSTART:20250330T010000
END:DAYLIGHT
BEGIN:STANDARD
TZOFFSETFROM:+0200
TZOFFSETTO:+0100
TZNAME:CET
DTSTART:20251026T010000
END:STANDARD
BEGIN:DAYLIGHT
TZOFFSETFROM:+0100
TZOFFSETTO:+0200
TZNAME:CEST
DTSTART:20260329T010000
END:DAYLIGHT
BEGIN:STANDARD
TZOFFSETFROM:+0200
TZOFFSETTO:+0100
TZNAME:CET
DTSTART:20261025T010000
END:STANDARD
BEGIN:DAYLIGHT
TZOFFSETFROM:+0100
TZOFFSETTO:+0200
TZNAME:CEST
DTSTART:20270328T010000
END:DAYLIGHT
BEGIN:STANDARD
TZOFFSETFROM:+0200
TZOFFSETTO:+0100
TZNAME:CET
DTSTART:20271031T010000
END:STANDARD
END:VTIMEZONE
BEGIN:VEVENT
DTSTART;TZID=Europe/Paris:20260203T121500
DTEND;TZID=Europe/Paris:20260203T134500
DTSTAMP:20260423T050219
CREATED:20260119T133550Z
LAST-MODIFIED:20260119T133551Z
UID:10000408-1770120900-1770126300@associationcentralp.fr
SUMMARY:[Groupe de Travail RH] - Février 2026
DESCRIPTION:2026 débute… et pour cette nouvelle saison des Groupes de Travail RH\, nous vous proposons une première réunion où vous pourrez évoquer tous les sujets et thématiques qui vous intéressent et que vous souhaitez aborder au cours de l’année. \n\n\n\nGroupe de travail ouvert uniquement aux adhérents Centr’Alp. Pensez à renouveler vos adhésions. ;Pour cela\, merci de contacter Audrey : audrey.savignon@association-centralp.comUne invitation vous sera envoyée par mail à laquelle vous pourrez confirmer votre participation.
URL:https://associationcentralp.fr/event/groupe-de-travail-rh-fevrier-2026/
CATEGORIES:Groupe de travail RH
ATTACH;FMTTYPE=image/jpeg:https://associationcentralp.fr/wp-content/uploads/2024/07/Groupe-travail-dirigeants.jpg
END:VEVENT
BEGIN:VEVENT
DTSTART;TZID=Europe/Paris:20260129T133000
DTEND;TZID=Europe/Paris:20260129T140000
DTSTAMP:20260423T050219
CREATED:20251208T105704Z
LAST-MODIFIED:20251208T110023Z
UID:10000362-1769693400-1769695200@associationcentralp.fr
SUMMARY:Optimisez votre profil LinkedIn / 13h30-14h
DESCRIPTION:Vous êtes dirigeant\, salarié ou indépendant et vous souhaitez améliorer votre visibilité sur LinkedIn ?Que ce soit pour représenter votre entreprise\, attirer l’attention des recruteurs ou développer votre marque personnelle\, cette session individuelle est conçue pour vous accompagner efficacement. \n\n\n\nPendant 30 minutes\, vous analyserez avec Sophie votre profil LinkedIn afin d’en identifier les points forts et les axes d’amélioration. L’objectif est de vous aider à construire une présence en ligne cohérente\, professionnelle et alignée avec vos ambitions.Au cours de cet entretien\, vous recevrez des conseils personnalisés sur la manière de structurer votre profil : photo\, titre\, résumé\, expériences\, compétences\, etc. Chaque élément sera passé en revue pour maximiser son impact. Vous repartirez avec des recommandations concrètes et immédiatement applicables\, adaptées à votre secteur et à vos objectifs.
URL:https://associationcentralp.fr/event/optimisez-votre-profil-linkedin-13h30-14h/
LOCATION:Work in Centr’Alp\, 196 C rue du rocher du Lorzier\, 38430 Moirans \, 196C rue du rocher du lorzier\, Moirans\, 38430
CATEGORIES:Ateliers salariés
ATTACH;FMTTYPE=image/jpeg:https://associationcentralp.fr/wp-content/uploads/2025/10/Optimisez-votre-linkedin-web.jpg
END:VEVENT
BEGIN:VEVENT
DTSTART;TZID=Europe/Paris:20260129T123000
DTEND;TZID=Europe/Paris:20260129T130000
DTSTAMP:20260423T050219
CREATED:20251208T104620Z
LAST-MODIFIED:20251208T110116Z
UID:10000359-1769689800-1769691600@associationcentralp.fr
SUMMARY:Optimisez votre profil LinkedIn / 12h30-13h
DESCRIPTION:Vous êtes dirigeant\, salarié ou indépendant et vous souhaitez améliorer votre visibilité sur LinkedIn ?Que ce soit pour représenter votre entreprise\, attirer l’attention des recruteurs ou développer votre marque personnelle\, cette session individuelle est conçue pour vous accompagner efficacement. \n\n\n\nPendant 30 minutes\, vous analyserez avec Sophie votre profil LinkedIn afin d’en identifier les points forts et les axes d’amélioration. L’objectif est de vous aider à construire une présence en ligne cohérente\, professionnelle et alignée avec vos ambitions.Au cours de cet entretien\, vous recevrez des conseils personnalisés sur la manière de structurer votre profil : photo\, titre\, résumé\, expériences\, compétences\, etc. Chaque élément sera passé en revue pour maximiser son impact. Vous repartirez avec des recommandations concrètes et immédiatement applicables\, adaptées à votre secteur et à vos objectifs.
URL:https://associationcentralp.fr/event/optimisez-votre-profil-linkedin-12h30-13h/
LOCATION:Work in Centr’Alp\, 196 C rue du rocher du Lorzier\, 38430 Moirans \, 196C rue du rocher du lorzier\, Moirans\, 38430
CATEGORIES:Ateliers salariés
ATTACH;FMTTYPE=image/jpeg:https://associationcentralp.fr/wp-content/uploads/2025/10/Optimisez-votre-linkedin-web.jpg
END:VEVENT
BEGIN:VEVENT
DTSTART;TZID=Europe/Paris:20260129T121500
DTEND;TZID=Europe/Paris:20260129T131500
DTSTAMP:20260423T050219
CREATED:20251209T102844Z
LAST-MODIFIED:20260108T154615Z
UID:10000366-1769688900-1769692500@associationcentralp.fr
SUMMARY:Hypnose : pause ressourçante\, apaisement\, reconnexion et clarté
DESCRIPTION:Et si\, au milieu du mouvement permanent de votre journée\, vous vous offriez une véritable parenthèse…Un instant suspendu\, où l’esprit respire\, où le corps relâche\, où quelque chose en vous retrouve sa juste place. \n\n\n\nNous vous proposons une séance d’hypnose collective pensée comme un voyage intérieur : un chemin qui commence par évacuer l’agitation pour accéder au calme\, se poursuit par la légèreté corporelle et se termine dans une sensation de clarté intime\, presque silencieuse.Un moment pour se retrouver… simplement. \n\n\n\nDéroulé de la séance : \n\n\n\n\nPrésentation — 15 minutesUn temps pour nous connecter ensemble\, doucement\, à ce qui va être partagé.Pour poser le cadre\, ouvrir l’espace\, laisser chacun entrer dans un état de disponibilité.Comme une porte qui s’entrouvre vers un territoire plus paisible.\n\n\n\nPratique guidée — 40 minutesVous serez accompagnés dans une descente progressive vers votre propre intériorité :\n\nL’esprit se dénoue\n\n\n\nLes émotions se posent\n\n\n\nLe corps respire autrement\, plus vaste\, plus tranquille.\n\n\n\nEt au cœur de ce calme\, une petite voix intérieure — intuitive\, claire — peut se faire entendre à nouveau.\n\n\n\nUn voyage tout en douceur\, où il n’y a rien à réussir\, rien à contrôler… juste à se laisser traverser.\n\n\n\n\n\nRetour — 5 minutesUn réveil délicat\, comme un matin lumineux.Le temps de retrouver le monde autour de soi…Avec une présence différente\, plus ancrée\, plus ouverte\, plus vivante.\n\n\n\n\nUne expérience simple\, profonde et bienveillante\, comme un souffle nouveau au milieu du quotidien ! \n\n\n\nIntervenante :Lise Mometti est une ex-travailleuse sociale formée en prévention\, praticienne en thérapie par l’hypnose depuis 2016 et géobiologue avec une approche globale holistique. Elle accompagne les personnes à se redresser après un moment difficile\, ou simplement à mieux accéder à ses ressources\, en vivant plus en paix et alignés avec vos valeurs. \n\n\n\nCabinet des Moiragiciennes -Bât Ecocryo
URL:https://associationcentralp.fr/event/hypnose-pause-ressourcante-apaisement-reconnexion-et-clarte/
LOCATION:Work in Centr’Alp\, 196 C rue du rocher du Lorzier\, 38430 Moirans \, 196C rue du rocher du lorzier\, Moirans\, 38430
CATEGORIES:Ateliers salariés
ATTACH;FMTTYPE=image/png:https://associationcentralp.fr/wp-content/uploads/2025/10/Voyage-Hypnotique-ressourcant-web.png
END:VEVENT
BEGIN:VEVENT
DTSTART;TZID=Europe/Paris:20260129T120000
DTEND;TZID=Europe/Paris:20260129T123000
DTSTAMP:20260423T050219
CREATED:20251208T104203Z
LAST-MODIFIED:20251208T110211Z
UID:10000358-1769688000-1769689800@associationcentralp.fr
SUMMARY:Optimisez votre profil LinkedIn / 12h-12h30
DESCRIPTION:Vous êtes dirigeant\, salarié ou indépendant et vous souhaitez améliorer votre visibilité sur LinkedIn ?Que ce soit pour représenter votre entreprise\, attirer l’attention des recruteurs ou développer votre marque personnelle\, cette session individuelle est conçue pour vous accompagner efficacement. \n\n\n\nPendant 30 minutes\, vous analyserez avec Sophie votre profil LinkedIn afin d’en identifier les points forts et les axes d’amélioration. L’objectif est de vous aider à construire une présence en ligne cohérente\, professionnelle et alignée avec vos ambitions.Au cours de cet entretien\, vous recevrez des conseils personnalisés sur la manière de structurer votre profil : photo\, titre\, résumé\, expériences\, compétences\, etc. Chaque élément sera passé en revue pour maximiser son impact. Vous repartirez avec des recommandations concrètes et immédiatement applicables\, adaptées à votre secteur et à vos objectifs.
URL:https://associationcentralp.fr/event/optimisez-votre-profil-linkedin-12h-12h30/
LOCATION:Work in Centr’Alp\, 196 C rue du rocher du Lorzier\, 38430 Moirans \, 196C rue du rocher du lorzier\, Moirans\, 38430
CATEGORIES:Ateliers salariés
ATTACH;FMTTYPE=image/jpeg:https://associationcentralp.fr/wp-content/uploads/2025/10/Optimisez-votre-linkedin-web.jpg
END:VEVENT
BEGIN:VEVENT
DTSTART;TZID=Europe/Paris:20260129T113000
DTEND;TZID=Europe/Paris:20260129T120000
DTSTAMP:20260423T050219
CREATED:20251208T103913Z
LAST-MODIFIED:20251208T110138Z
UID:10000357-1769686200-1769688000@associationcentralp.fr
SUMMARY:Optimisez votre profil LinkedIn / 11h30-12h
DESCRIPTION:Vous êtes dirigeant\, salarié ou indépendant et vous souhaitez améliorer votre visibilité sur LinkedIn ?Que ce soit pour représenter votre entreprise\, attirer l’attention des recruteurs ou développer votre marque personnelle\, cette session individuelle est conçue pour vous accompagner efficacement. \n\n\n\nPendant 30 minutes\, vous analyserez avec Sophie votre profil LinkedIn afin d’en identifier les points forts et les axes d’amélioration. L’objectif est de vous aider à construire une présence en ligne cohérente\, professionnelle et alignée avec vos ambitions.Au cours de cet entretien\, vous recevrez des conseils personnalisés sur la manière de structurer votre profil : photo\, titre\, résumé\, expériences\, compétences\, etc. Chaque élément sera passé en revue pour maximiser son impact. Vous repartirez avec des recommandations concrètes et immédiatement applicables\, adaptées à votre secteur et à vos objectifs.
URL:https://associationcentralp.fr/event/optimisez-votre-profil-linkedin-11h30-12h/
LOCATION:Work in Centr’Alp\, 196 C rue du rocher du Lorzier\, 38430 Moirans \, 196C rue du rocher du lorzier\, Moirans\, 38430
CATEGORIES:Ateliers salariés
ATTACH;FMTTYPE=image/jpeg:https://associationcentralp.fr/wp-content/uploads/2025/10/Optimisez-votre-linkedin-web.jpg
END:VEVENT
BEGIN:VEVENT
DTSTART;TZID=Europe/Paris:20260129T083000
DTEND;TZID=Europe/Paris:20260129T093000
DTSTAMP:20260423T050219
CREATED:20260115T153916Z
LAST-MODIFIED:20260116T104451Z
UID:10000386-1769675400-1769679000@associationcentralp.fr
SUMMARY:Club des Dirigeants : C'est parti pour 2026
DESCRIPTION:Au programme : BONNE ANNEE 2026 \n\n\n\nPour cette première rencontre de l’année\, nous vous proposons de nous retrouver pour venir tirer les rois. Ce sera l’occasion pour tous de nous échanger nos vœux sous un format original. \n\n\n\n🎯Objectif : Partager un moment convivial et se retrouver pour bien débuter l’année \n\n\n\n\n\n\n\n\n\nNos engagements pour cette rencontre : \n\n\n\n\nEntre 15 et 20 participants à chaque rencontre\n\n\n\nUn format court avec des horaires respectés ;\n\n\n\nUne animation favorisant les échanges entre dirigeants ;\n\n\n\n\nClub dirigeant ouvert uniquement aux adhérents Centr’Alp. Pensez à renouveler vos adhésions. ;Pour cela\, merci de contacter Audrey : audrey.savignon@association-centralp.comUne invitation vous sera envoyée par mail à laquelle vous pourrez confirmer votre participation.
URL:https://associationcentralp.fr/event/club-des-dirigeants-0/
LOCATION:Work in Centr’Alp\, 196C rue du rocher du lorzier Moirans\, 38430\, 196C rue du rocher du lorzier\, Moirans\, 38430\, France
CATEGORIES:Événements entreprises
ATTACH;FMTTYPE=image/jpeg:https://associationcentralp.fr/wp-content/uploads/2024/07/Club-dirigeant.jpg
END:VEVENT
END:VCALENDAR